BEGIN:VCALENDAR
VERSION:2.0
PRODID:-//Lehigh Valley Charter High School for the Arts//NONSGML v1.0//EN
CALSCALE:GREGORIAN
METHOD:PUBLISH
X-WR-CALNAME:Lehigh Valley Charter High School for the Arts
X-ORIGINAL-URL:https://www.charterarts.org
X-WR-CALDESC:Events for Lehigh Valley Charter High School for the Arts
X-WR-TIMEZONE:America/New_York
BEGIN:VEVENT
DTSTART;VALUE=DATE-TIME:20170918T190000
DTEND;VALUE=DATE-TIME:20170918T210000
DTSTAMP:20260420T151521
CREATED:20170908T101932
LAST-MODIFIED:20170908T102017
UID:14850@https://www.charterarts.org
SUMMARY:Financial Aid Seminar
DESCRIPTION:An Evening About FAFSA\, Financial Aid\, and Scholarships  Monday\, September 18  7pm  Commons Café
LOCATION:
URL:https://www.charterarts.org/event/14850/
END:VEVENT
END:VCALENDAR