BEGIN:VCALENDAR
VERSION:2.0
PRODID:-//Lehigh Valley Charter High School for the Arts//NONSGML v1.0//EN
CALSCALE:GREGORIAN
METHOD:PUBLISH
X-WR-CALNAME:Lehigh Valley Charter High School for the Arts
X-ORIGINAL-URL:https://www.charterarts.org
X-WR-CALDESC:Events for Lehigh Valley Charter High School for the Arts
X-WR-TIMEZONE:America/New_York
BEGIN:VEVENT
DTSTART;VALUE=DATE-TIME:20140327T080000
DTEND;VALUE=DATE-TIME:20140516T170000
DTSTAMP:20260419T144821
CREATED:20140304T083358
LAST-MODIFIED:20140304T083358
UID:6772@https://www.charterarts.org
SUMMARY:2014 Senior Art Exhibit
DESCRIPTION:Opening Reception 3/27/14 6:00pm - 9:00pm
LOCATION:Ambre Studio, Inc., 310 West Broad Street, Bethlehem, PA, United States, 18018
URL:https://www.charterarts.org/event/2014-senior-art-exhibit/
END:VEVENT
END:VCALENDAR