BEGIN:VCALENDAR
VERSION:2.0
PRODID:-//Lehigh Valley Charter High School for the Arts//NONSGML v1.0//EN
CALSCALE:GREGORIAN
METHOD:PUBLISH
X-WR-CALNAME:Lehigh Valley Charter High School for the Arts
X-ORIGINAL-URL:https://www.charterarts.org
X-WR-CALDESC:Events for Lehigh Valley Charter High School for the Arts
X-WR-TIMEZONE:America/New_York
BEGIN:VEVENT
DTSTART;VALUE=DATE-TIME:20190729T090000
DTEND;VALUE=DATE-TIME:20190802T120000
DTSTAMP:20260419T121344
CREATED:20190605T112344
LAST-MODIFIED:20190605T112432
UID:17732@https://www.charterarts.org
SUMMARY:Acting for Commercial, TV and Film Workshop
DESCRIPTION:Acting for Commercial\, TV and Film WorkshopThere are openings still available    July 29-August 2 (open to teens entering 8th-12th grades)    9 AM-12 PM daily    Fee: $195    Call 610-868-2971 Ext. 3185 to register.    This workshop is taught by an industry professional with more than twenty years experience working in casting and as a producer on over 600 commercial\, tv and film projects.  Participants will learn how the on-camera acting industry really works\, both regionally and in the larger markets of New York and Los Angeles.  Participants will learn critical ‘cold read’ techniques required when auditioning for commercial\, tv and film projects.  Limited to 8 participants.  Open to teens entering 8th-12th grades. This workshop is part of Charter Arts' Summer Academy\, a program of arts enrichment workshops that is open to the community.
LOCATION:
URL:https://www.charterarts.org/event/acting-for-commercial-tv-and-film-workshop/
END:VEVENT
END:VCALENDAR