BEGIN:VCALENDAR
VERSION:2.0
PRODID:-//Lehigh Valley Charter High School for the Arts//NONSGML v1.0//EN
CALSCALE:GREGORIAN
METHOD:PUBLISH
X-WR-CALNAME:Lehigh Valley Charter High School for the Arts
X-ORIGINAL-URL:https://www.charterarts.org
X-WR-CALDESC:Events for Lehigh Valley Charter High School for the Arts
X-WR-TIMEZONE:America/New_York
BEGIN:VEVENT
DTSTART;VALUE=DATE-TIME:20201006T180000
DTEND;VALUE=DATE-TIME:20201006T184500
DTSTAMP:20260420T113336
CREATED:20201005T135006
LAST-MODIFIED:20201005T135048
UID:20559@https://www.charterarts.org
SUMMARY:Admissions Event- Transfer Tuesday
DESCRIPTION:Charter Arts is still seeking candidates in certain grade levels and artistic majors for the current 2020-2021 school year. Therefore\, the Admissions Office has set aside time on Tuesdays for virtual admissions events that are designed for parents/guardians of prospective students who are interested in auditioning for the current 2020-2021 school year.  —–  The 45-minute session conducted by Charter Arts’ Director of Admissions and Assessments\, Ann Marie Squerrini\, provides a great opportunity to learn more about Charter Arts’ curriculum and admissions process. In addition\, attendees will learn about the process of transferring to Charter Arts from a child’s current school if he/she is accepted after audition.  The session will include a valuable Q &amp; A session.  —–  Session Dates:Tuesday\, September 15\, 2020\, at 6 PM    Tuesday\, September 22\, 2020\, at 10 AM    Tuesday\, September 29\, 2020\, at 10 AM    Tuesday\, October 6\, 2020\, at 6 PM    To RSVP\, please email communications@charterarts.org.  Please provide the names of those who would like to attend.
LOCATION:
URL:https://www.charterarts.org/event/admissions-event-transfer-tuesday/
END:VEVENT
END:VCALENDAR