BEGIN:VCALENDAR
VERSION:2.0
PRODID:-//Lehigh Valley Charter High School for the Arts//NONSGML v1.0//EN
CALSCALE:GREGORIAN
METHOD:PUBLISH
X-WR-CALNAME:Lehigh Valley Charter High School for the Arts
X-ORIGINAL-URL:https://www.charterarts.org
X-WR-CALDESC:Events for Lehigh Valley Charter High School for the Arts
X-WR-TIMEZONE:America/New_York
BEGIN:VEVENT
DTSTART;VALUE=DATE-TIME:20190115T190000
DTEND;VALUE=DATE-TIME:20190115T210000
DTSTAMP:20260420T103411
CREATED:20180831T105251
LAST-MODIFIED:20181226T113608
UID:16633@https://www.charterarts.org
SUMMARY:Advanced Jazz Ensemble Concert
DESCRIPTION:PURCHASE TICKETS
LOCATION:
URL:https://www.charterarts.org/event/advance-jazz-ensemble-concert/
END:VEVENT
END:VCALENDAR