BEGIN:VCALENDAR
VERSION:2.0
PRODID:-//Lehigh Valley Charter High School for the Arts//NONSGML v1.0//EN
CALSCALE:GREGORIAN
METHOD:PUBLISH
X-WR-CALNAME:Lehigh Valley Charter High School for the Arts
X-ORIGINAL-URL:https://www.charterarts.org
X-WR-CALDESC:Events for Lehigh Valley Charter High School for the Arts
X-WR-TIMEZONE:America/New_York
BEGIN:VEVENT
DTSTART;VALUE=DATE-TIME:20170124T190000
DTEND;VALUE=DATE-TIME:20170124T210000
DTSTAMP:20260420T205047
CREATED:20170104T095815
LAST-MODIFIED:20170104T095859
UID:13581@https://www.charterarts.org
SUMMARY:Advanced Jazz Ensemble Concert
DESCRIPTION:This event takes place in the Commons Café.
LOCATION:
URL:https://www.charterarts.org/event/advance-jazz-ensemble/
END:VEVENT
END:VCALENDAR