BEGIN:VCALENDAR
VERSION:2.0
PRODID:-//Lehigh Valley Charter High School for the Arts//NONSGML v1.0//EN
CALSCALE:GREGORIAN
METHOD:PUBLISH
X-WR-CALNAME:Lehigh Valley Charter High School for the Arts
X-ORIGINAL-URL:https://www.charterarts.org
X-WR-CALDESC:Events for Lehigh Valley Charter High School for the Arts
X-WR-TIMEZONE:America/New_York
BEGIN:VEVENT
DTSTART;VALUE=DATE-TIME:20180123T190000
DTEND;VALUE=DATE-TIME:20180123T210000
DTSTAMP:20260420T204919
CREATED:20180118T173654
LAST-MODIFIED:20180118T173851
UID:15367@https://www.charterarts.org
SUMMARY:Advanced Jazz Combo Concert
DESCRIPTION:This event takes place in the Commons Cafe.  General Admission tickets are available online or at the door.
LOCATION:
URL:https://www.charterarts.org/event/advanced-jazz-combo-concert-2/
END:VEVENT
END:VCALENDAR