BEGIN:VCALENDAR
VERSION:2.0
PRODID:-//Lehigh Valley Charter High School for the Arts//NONSGML v1.0//EN
CALSCALE:GREGORIAN
METHOD:PUBLISH
X-WR-CALNAME:Lehigh Valley Charter High School for the Arts
X-ORIGINAL-URL:https://www.charterarts.org
X-WR-CALDESC:Events for Lehigh Valley Charter High School for the Arts
X-WR-TIMEZONE:America/New_York
BEGIN:VEVENT
DTSTART;VALUE=DATE-TIME:20200114T190000
DTEND;VALUE=DATE-TIME:20200114T210000
DTSTAMP:20260419T133123
CREATED:20191204T113105
LAST-MODIFIED:20200110T172402
UID:18632@https://www.charterarts.org
SUMMARY:Advanced Jazz Combo Concert
DESCRIPTION:This event will take place in the Black Box Theatre.  LIMITED SEATING!!    BUY TICKETS
LOCATION:
URL:https://www.charterarts.org/event/advanced-jazz-combo-concert-3/
END:VEVENT
END:VCALENDAR