BEGIN:VCALENDAR
VERSION:2.0
PRODID:-//Lehigh Valley Charter High School for the Arts//NONSGML v1.0//EN
CALSCALE:GREGORIAN
METHOD:PUBLISH
X-WR-CALNAME:Lehigh Valley Charter High School for the Arts
X-ORIGINAL-URL:https://www.charterarts.org
X-WR-CALDESC:Events for Lehigh Valley Charter High School for the Arts
X-WR-TIMEZONE:America/New_York
BEGIN:VEVENT
DTSTART;VALUE=DATE-TIME:20160205T180000
DTEND;VALUE=DATE-TIME:20160205T210000
DTSTAMP:20260420T004249
CREATED:20160201T140422
LAST-MODIFIED:20160201T140439
UID:11308@https://www.charterarts.org
SUMMARY:Alumni Group Art Exhibit- Opening Reception
DESCRIPTION:Alumni Group Art Exhibit  Opening/First Friday Reception with Alumni Talk-Back:  Friday\, February 5\, 6p-9p  Charter Arts Gallery  This is a non-ticketed event\, but donations are greatly appreciated.  (Exhibit will be on display until March 23)
LOCATION:
URL:https://www.charterarts.org/event/alumni-group-art-exhibit-opening-reception/
END:VEVENT
END:VCALENDAR