BEGIN:VCALENDAR
VERSION:2.0
PRODID:-//Lehigh Valley Charter High School for the Arts//NONSGML v1.0//EN
CALSCALE:GREGORIAN
METHOD:PUBLISH
X-WR-CALNAME:Lehigh Valley Charter High School for the Arts
X-ORIGINAL-URL:https://www.charterarts.org
X-WR-CALDESC:Events for Lehigh Valley Charter High School for the Arts
X-WR-TIMEZONE:America/New_York
BEGIN:VEVENT
DTSTART;VALUE=DATE-TIME:20190620T190000
DTEND;VALUE=DATE-TIME:20190620T210000
DTSTAMP:20260419T162450
CREATED:20181015T142801
LAST-MODIFIED:20190613T125352
UID:16881@https://www.charterarts.org
SUMMARY:Alumni Vocalist Cafe- CANCELLED
DESCRIPTION:This event has been cancelled.
LOCATION:
URL:https://www.charterarts.org/event/alumni-vocalist-cafe-3/
END:VEVENT
END:VCALENDAR