BEGIN:VCALENDAR
VERSION:2.0
PRODID:-//Lehigh Valley Charter High School for the Arts//NONSGML v1.0//EN
CALSCALE:GREGORIAN
METHOD:PUBLISH
X-WR-CALNAME:Lehigh Valley Charter High School for the Arts
X-ORIGINAL-URL:https://www.charterarts.org
X-WR-CALDESC:Events for Lehigh Valley Charter High School for the Arts
X-WR-TIMEZONE:America/New_York
BEGIN:VEVENT
DTSTART;VALUE=DATE:20160624
DTEND;VALUE=DATE:20160625
DTSTAMP:20260422T135558
CREATED:20160616T143741
LAST-MODIFIED:20160616T143757
UID:12298@https://www.charterarts.org
SUMMARY:Alumni Vocalist Cafe
DESCRIPTION:7pm at Godfrey Daniels.    Reservations are suggested\, www.godfreydaniels.org.
LOCATION:
URL:https://www.charterarts.org/event/alumni-vocalist-cafe/
END:VEVENT
END:VCALENDAR