BEGIN:VCALENDAR
VERSION:2.0
PRODID:-//Lehigh Valley Charter High School for the Arts//NONSGML v1.0//EN
CALSCALE:GREGORIAN
METHOD:PUBLISH
X-WR-CALNAME:Lehigh Valley Charter High School for the Arts
X-ORIGINAL-URL:https://www.charterarts.org
X-WR-CALDESC:Events for Lehigh Valley Charter High School for the Arts
X-WR-TIMEZONE:America/New_York
BEGIN:VEVENT
DTSTART;VALUE=DATE:20121020
DTEND;VALUE=DATE:20121021
DTSTAMP:20260422T155137
CREATED:20121016T094212
LAST-MODIFIED:20121016T094212
UID:4016@https://www.charterarts.org
SUMMARY:American Choral Director's Association - PA State Conference
DESCRIPTION:York\, PA
LOCATION:
URL:https://www.charterarts.org/event/american-choral-directors-association-pa-state-conference/
END:VEVENT
END:VCALENDAR