BEGIN:VCALENDAR
VERSION:2.0
PRODID:-//Lehigh Valley Charter High School for the Arts//NONSGML v1.0//EN
CALSCALE:GREGORIAN
METHOD:PUBLISH
X-WR-CALNAME:Lehigh Valley Charter High School for the Arts
X-ORIGINAL-URL:https://www.charterarts.org
X-WR-CALDESC:Events for Lehigh Valley Charter High School for the Arts
X-WR-TIMEZONE:America/New_York
BEGIN:VEVENT
DTSTART;VALUE=DATE-TIME:20161006T190000
DTEND;VALUE=DATE-TIME:20161006T210000
DTSTAMP:20260422T140112
CREATED:20160923T112016
LAST-MODIFIED:20160923T112048
UID:12730@https://www.charterarts.org
SUMMARY:An Evening of Song
DESCRIPTION:This event takes place at Godfrey Daniels.    Reservations are recommended: www.godfreydaniels.org
LOCATION:
URL:https://www.charterarts.org/event/an-evening-of-song/
END:VEVENT
END:VCALENDAR