BEGIN:VCALENDAR
VERSION:2.0
PRODID:-//Lehigh Valley Charter High School for the Arts//NONSGML v1.0//EN
CALSCALE:GREGORIAN
METHOD:PUBLISH
X-WR-CALNAME:Lehigh Valley Charter High School for the Arts
X-ORIGINAL-URL:https://www.charterarts.org
X-WR-CALDESC:Events for Lehigh Valley Charter High School for the Arts
X-WR-TIMEZONE:America/New_York
BEGIN:VEVENT
DTSTART;VALUE=DATE-TIME:20151002T180000
DTEND;VALUE=DATE-TIME:20151002T210000
DTSTAMP:20260422T190610
CREATED:20150805T134048
LAST-MODIFIED:20151001T193515
UID:10164@https://www.charterarts.org
SUMMARY:Art Exhibit- Best of Summer Series/Faculty
DESCRIPTION:Best of Summer Series/ Faculty Exhibit  The Opening Reception will take place during south Bethlehem's First Friday\, October 2 from 6PM-9 PM.  (Exhibit will be on display September 16-October 9.)
LOCATION:
URL:https://www.charterarts.org/event/art-exhibit-best-of-summer-seriesfaculty/
END:VEVENT
END:VCALENDAR