BEGIN:VCALENDAR
VERSION:2.0
PRODID:-//Lehigh Valley Charter High School for the Arts//NONSGML v1.0//EN
CALSCALE:GREGORIAN
METHOD:PUBLISH
X-WR-CALNAME:Lehigh Valley Charter High School for the Arts
X-ORIGINAL-URL:https://www.charterarts.org
X-WR-CALDESC:Events for Lehigh Valley Charter High School for the Arts
X-WR-TIMEZONE:America/New_York
BEGIN:VEVENT
DTSTART;VALUE=DATE-TIME:20150521T190000
DTEND;VALUE=DATE-TIME:20150521T210000
DTSTAMP:20260422T161843
CREATED:20141223T093821
LAST-MODIFIED:20150423T184230
UID:9145@https://www.charterarts.org
SUMMARY:Artist Cafe
DESCRIPTION:Join the Visual Art Dept. for the biggest student art exhibition of the year! Artwork collections will include original and in-class student artwork.Caricatures and light refreshments will be available.          var VendiniTicketLineLaunch = VendiniTicketLineLaunch || {};  VendiniTicketLineLaunch['2e5df71abe86aef677296dcfb35ecf9e'] = VendiniTicketLineLaunch['2e5df71abe86aef677296dcfb35ecf9e'] || [];  (function() {   VendiniTicketLineLaunch['2e5df71abe86aef677296dcfb35ecf9e'].push({id: '70e3f1bfd17a2b07a0b8cb83f6f755cb'\, type:'tix'\, eventID:'22f99de64e79e971deb5a4dae356f17d'\, image:'buy-tickets-now.png'});   if (document.body) {var buttonContainer = document.getElementById("vendiniTicketLineLaunch_70e3f1bfd17a2b07a0b8cb83f6f755cb").parentNode;}   else {document.write(''); buttonContainer = document.body;}   var span = document.createElement("span");   span.id = "70e3f1bfd17a2b07a0b8cb83f6f755cb";   buttonContainer.appendChild(span);   if (!document.getElementById('VendiniTicketLineLaunch_2e5df71abe86aef677296dcfb35ecf9e')) {    var script = document.createElement('script'); script.id = 'VendiniTicketLineLaunch_2e5df71abe86aef677296dcfb35ecf9e'; script.type = 'text/javascript'; script.async = true; script.src = 'https://www.vendini.com/ticketLine/js/launch/2e5df71abe86aef677296dcfb35ecf9e';    buttonContainer.appendChild(script);   }  })();          
LOCATION:
URL:https://www.charterarts.org/event/artist-cafe-2/
END:VEVENT
END:VCALENDAR