BEGIN:VCALENDAR
VERSION:2.0
PRODID:-//Lehigh Valley Charter High School for the Arts//NONSGML v1.0//EN
CALSCALE:GREGORIAN
METHOD:PUBLISH
X-WR-CALNAME:Lehigh Valley Charter High School for the Arts
X-ORIGINAL-URL:https://www.charterarts.org
X-WR-CALDESC:Events for Lehigh Valley Charter High School for the Arts
X-WR-TIMEZONE:America/New_York
BEGIN:VEVENT
DTSTART;VALUE=DATE-TIME:20130517T193000
DTEND;VALUE=DATE-TIME:20130517T213000
DTSTAMP:20260422T172708
CREATED:20121016T102325
LAST-MODIFIED:20121016T102502
UID:4034@https://www.charterarts.org
SUMMARY:Artists' Cafè
DESCRIPTION:The Artists’ Café\, the biggest art event of the year\, will feature a culmination of work expressive of artistic achievement.  Original artwork and classroom assignments will be on view for one night only.  Caricatures and light refreshments will be available for sale.        
LOCATION:LVPA's Fowler Art Gallery and Art Rooms, 675 East Broad Street, Bethlehem, PA, United States, 18018
URL:https://www.charterarts.org/event/artists-cafe/
END:VEVENT
END:VCALENDAR