BEGIN:VCALENDAR
VERSION:2.0
PRODID:-//Lehigh Valley Charter High School for the Arts//NONSGML v1.0//EN
CALSCALE:GREGORIAN
METHOD:PUBLISH
X-WR-CALNAME:Lehigh Valley Charter High School for the Arts
X-ORIGINAL-URL:https://www.charterarts.org
X-WR-CALDESC:Events for Lehigh Valley Charter High School for the Arts
X-WR-TIMEZONE:America/New_York
BEGIN:VEVENT
DTSTART;VALUE=DATE-TIME:20171013T183000
DTEND;VALUE=DATE-TIME:20171013T203000
DTSTAMP:20260422T101734
CREATED:20171002T162116
LAST-MODIFIED:20171002T162208
UID:14935@https://www.charterarts.org
SUMMARY:Back to School Bingo
DESCRIPTION:Back to School Bingo &amp; Raffle  Parents are invited to the first school-wide fundraiser of the year. This event is presented by the Charter Arts Parent Association.  Enjoy twenty rounds of bingo and win some great prizes!! Plus\, there will be some fun extras that include: entertainment\, food\, concessions\, and tricky tray raffles.        Friday\, October 13  6:30-8:30pm  Doors open at 5:30pm    $20 ticket purchase in advance  $25 ticket purchase at the door  $10 for students/children K-12    You can purchase tickets by downloading the order form from the fundraiser page on our website. (the fundraiser page is located at charterarts.org under PARENTS tab.)
LOCATION:
URL:https://www.charterarts.org/event/back-school-bingo/
END:VEVENT
END:VCALENDAR