BEGIN:VCALENDAR
VERSION:2.0
PRODID:-//Lehigh Valley Charter High School for the Arts//NONSGML v1.0//EN
CALSCALE:GREGORIAN
METHOD:PUBLISH
X-WR-CALNAME:Lehigh Valley Charter High School for the Arts
X-ORIGINAL-URL:https://www.charterarts.org
X-WR-CALDESC:Events for Lehigh Valley Charter High School for the Arts
X-WR-TIMEZONE:America/New_York
BEGIN:VEVENT
DTSTART;VALUE=DATE-TIME:20170913T180000
DTEND;VALUE=DATE-TIME:20170913T200000
DTSTAMP:20260420T174934
CREATED:20170706T093349
LAST-MODIFIED:20170908T073735
UID:14298@https://www.charterarts.org
SUMMARY:Back to School Night
DESCRIPTION:11/12th grade parent/guardian schedule:  6:00 - 7:00pm Administrative assembly in Theatre  7:05 - 7:35pm Artistic department presentations  7:35 - 8:00pm Walk the school\, see the building\, meet your child’s core teachers*\, visit club tables in Commons        9/10th grade parent/guardian schedule:  6:00 - 6:30pm Artistic department presentations  6:35 - 7:00pm Walk the school\, see the building\, meet your child’s core teachers*\, visit club tables in Commons  7:05 - 8:00pm Administrative assembly in Theatre        *This time is not reserved for individual conferences with teachers.  If you would like to talk with a teacher specifically about your child\, please email them to set up a meeting as necessary.  &nbsp;
LOCATION:
URL:https://www.charterarts.org/event/back-school-night-2/
END:VEVENT
END:VCALENDAR