BEGIN:VCALENDAR
VERSION:2.0
PRODID:-//Lehigh Valley Charter High School for the Arts//NONSGML v1.0//EN
CALSCALE:GREGORIAN
METHOD:PUBLISH
X-WR-CALNAME:Lehigh Valley Charter High School for the Arts
X-ORIGINAL-URL:https://www.charterarts.org
X-WR-CALDESC:Events for Lehigh Valley Charter High School for the Arts
X-WR-TIMEZONE:America/New_York
BEGIN:VEVENT
DTSTART;VALUE=DATE-TIME:20140918T105000
DTEND;VALUE=DATE-TIME:20140918T113000
DTSTAMP:20260420T162822
CREATED:20140917T121634
LAST-MODIFIED:20140917T121634
UID:8501@https://www.charterarts.org
SUMMARY:Bake Sale-Figure Skating
DESCRIPTION:The Figure Skating Department will hold a Bake Sale at Lunch.  Proceeds benefit the department.
LOCATION:
URL:https://www.charterarts.org/event/bake-sale-figure-skating/
END:VEVENT
END:VCALENDAR