BEGIN:VCALENDAR
VERSION:2.0
PRODID:-//Lehigh Valley Charter High School for the Arts//NONSGML v1.0//EN
CALSCALE:GREGORIAN
METHOD:PUBLISH
X-WR-CALNAME:Lehigh Valley Charter High School for the Arts
X-ORIGINAL-URL:https://www.charterarts.org
X-WR-CALDESC:Events for Lehigh Valley Charter High School for the Arts
X-WR-TIMEZONE:America/New_York
BEGIN:VEVENT
DTSTART;VALUE=DATE-TIME:20180515T190000
DTEND;VALUE=DATE-TIME:20180515T210000
DTSTAMP:20260420T100016
CREATED:20180118T175759
LAST-MODIFIED:20180508T121742
UID:15413@https://www.charterarts.org
SUMMARY:Big Band Concert
DESCRIPTION:BUY TICKETS
LOCATION:
URL:https://www.charterarts.org/event/big-band-concert/
END:VEVENT
END:VCALENDAR