BEGIN:VCALENDAR
VERSION:2.0
PRODID:-//Lehigh Valley Charter High School for the Arts//NONSGML v1.0//EN
CALSCALE:GREGORIAN
METHOD:PUBLISH
X-WR-CALNAME:Lehigh Valley Charter High School for the Arts
X-ORIGINAL-URL:https://www.charterarts.org
X-WR-CALDESC:Events for Lehigh Valley Charter High School for the Arts
X-WR-TIMEZONE:America/New_York
BEGIN:VEVENT
DTSTART;VALUE=DATE-TIME:20150219T190000
DTEND;VALUE=DATE-TIME:20150219T210000
DTSTAMP:20260422T140139
CREATED:20141218T113638
LAST-MODIFIED:20141218T113638
UID:8995@https://www.charterarts.org
SUMMARY:Black History Show at Godfrey Daniels
DESCRIPTION:
LOCATION:
URL:https://www.charterarts.org/event/black-history-show-godfrey-daniels/
END:VEVENT
END:VCALENDAR