BEGIN:VCALENDAR
VERSION:2.0
PRODID:-//Lehigh Valley Charter High School for the Arts//NONSGML v1.0//EN
CALSCALE:GREGORIAN
METHOD:PUBLISH
X-WR-CALNAME:Lehigh Valley Charter High School for the Arts
X-ORIGINAL-URL:https://www.charterarts.org
X-WR-CALDESC:Events for Lehigh Valley Charter High School for the Arts
X-WR-TIMEZONE:America/New_York
BEGIN:VEVENT
DTSTART;VALUE=DATE-TIME:20121023T173000
DTEND;VALUE=DATE-TIME:20121023T193000
DTSTAMP:20260422T190629
CREATED:20120908T111246
LAST-MODIFIED:20120908T111246
UID:3660@https://www.charterarts.org
SUMMARY:Board Strategic Planning Meeting
DESCRIPTION:
LOCATION:
URL:https://www.charterarts.org/event/board-strategic-planning-meeting/
END:VEVENT
END:VCALENDAR