BEGIN:VCALENDAR
VERSION:2.0
PRODID:-//Lehigh Valley Charter High School for the Arts//NONSGML v1.0//EN
CALSCALE:GREGORIAN
METHOD:PUBLISH
X-WR-CALNAME:Lehigh Valley Charter High School for the Arts
X-ORIGINAL-URL:https://www.charterarts.org
X-WR-CALDESC:Events for Lehigh Valley Charter High School for the Arts
X-WR-TIMEZONE:America/New_York
BEGIN:VEVENT
DTSTART;VALUE=DATE-TIME:20140721T093000
DTEND;VALUE=DATE-TIME:20140721T120000
DTSTAMP:20260420T104458
CREATED:20140625T165829
LAST-MODIFIED:20140625T165829
UID:7357@https://www.charterarts.org
SUMMARY:Broadway Music Camp: July 21-25
DESCRIPTION:Broadway Music Camp (limited openings available)  Are you a budding Broadway diva? This class is designed for students looking to become triple threats. Students will strengthen their abilities in acting\, singing and dancing through one-on-one coaching while learning to work in an ensemble with others who share a passion for the spotlight. By the end of the course\, students will have improved their audition skills and feel ready to tackle the Great White Way –  or at least the next school play!Open to children entering 6th-8th gradeOne Week Session:  July 21-259:30am-12:00pm daily$165Instructors:   Alex Rice\, Tristan Shuler
LOCATION:
URL:https://www.charterarts.org/event/broadway-music-camp/
END:VEVENT
END:VCALENDAR