BEGIN:VCALENDAR
VERSION:2.0
PRODID:-//Lehigh Valley Charter High School for the Arts//NONSGML v1.0//EN
CALSCALE:GREGORIAN
METHOD:PUBLISH
X-WR-CALNAME:Lehigh Valley Charter High School for the Arts
X-ORIGINAL-URL:https://www.charterarts.org
X-WR-CALDESC:Events for Lehigh Valley Charter High School for the Arts
X-WR-TIMEZONE:America/New_York
BEGIN:VEVENT
DTSTART;VALUE=DATE-TIME:20181129T190000
DTEND;VALUE=DATE-TIME:20181129T210000
DTSTAMP:20260419T162752
CREATED:20180807T120111
LAST-MODIFIED:20181123T111010
UID:16498@https://www.charterarts.org
SUMMARY:Chamber Ensembles Concert
DESCRIPTION:This event takes place in the Charter Arts Theatre.    PURCHASE TICKETS
LOCATION:
URL:https://www.charterarts.org/event/chamber-ensembles-concert-6/
END:VEVENT
END:VCALENDAR