BEGIN:VCALENDAR
VERSION:2.0
PRODID:-//Lehigh Valley Charter High School for the Arts//NONSGML v1.0//EN
CALSCALE:GREGORIAN
METHOD:PUBLISH
X-WR-CALNAME:Lehigh Valley Charter High School for the Arts
X-ORIGINAL-URL:https://www.charterarts.org
X-WR-CALDESC:Events for Lehigh Valley Charter High School for the Arts
X-WR-TIMEZONE:America/New_York
BEGIN:VEVENT
DTSTART;VALUE=DATE-TIME:20190518T180000
DTEND;VALUE=DATE-TIME:20190518T230000
DTSTAMP:20260419T142239
CREATED:20190117T101614
LAST-MODIFIED:20190518T134825
UID:17184@https://www.charterarts.org
SUMMARY:Charter Arts' Annual Gala of Dreams
DESCRIPTION:The annual Gala of Dreams is Charter Arts' largest fundraiser of the year.  This elegant and exciting evening is filled with great entertainment\, great food\, and great fun!    BUY TICKETS
LOCATION:
URL:https://www.charterarts.org/event/charter-arts-annual-gala-of-dreams/
END:VEVENT
END:VCALENDAR