BEGIN:VCALENDAR
VERSION:2.0
PRODID:-//Lehigh Valley Charter High School for the Arts//NONSGML v1.0//EN
CALSCALE:GREGORIAN
METHOD:PUBLISH
X-WR-CALNAME:Lehigh Valley Charter High School for the Arts
X-ORIGINAL-URL:https://www.charterarts.org
X-WR-CALDESC:Events for Lehigh Valley Charter High School for the Arts
X-WR-TIMEZONE:America/New_York
BEGIN:VEVENT
DTSTART;VALUE=DATE-TIME:20181121T160000
DTEND;VALUE=DATE-TIME:20181121T180000
DTSTAMP:20260419T133652
CREATED:20181120T102343
LAST-MODIFIED:20181120T102730
UID:17039@https://www.charterarts.org
SUMMARY:Charter Arts at Hotel Bethlehem
DESCRIPTION:This outreach performance includes student performers in the lobby of the historic Hotel Bethlehem    4pm-6pm
LOCATION:
URL:https://www.charterarts.org/event/charter-arts-at-hotel-bethlehem/
END:VEVENT
END:VCALENDAR