BEGIN:VCALENDAR
VERSION:2.0
PRODID:-//Lehigh Valley Charter High School for the Arts//NONSGML v1.0//EN
CALSCALE:GREGORIAN
METHOD:PUBLISH
X-WR-CALNAME:Lehigh Valley Charter High School for the Arts
X-ORIGINAL-URL:https://www.charterarts.org
X-WR-CALDESC:Events for Lehigh Valley Charter High School for the Arts
X-WR-TIMEZONE:America/New_York
BEGIN:VEVENT
DTSTART;VALUE=DATE-TIME:20170517T190000
DTEND;VALUE=DATE-TIME:20170517T210000
DTSTAMP:20260420T205302
CREATED:20170103T155912
LAST-MODIFIED:20170103T155912
UID:13490@https://www.charterarts.org
SUMMARY:Charter Arts Jazz Ensemble Concert
DESCRIPTION:This event takes place in the Commons Cafe.
LOCATION:
URL:https://www.charterarts.org/event/charter-arts-jazz-ensemble-concert/
END:VEVENT
END:VCALENDAR