BEGIN:VCALENDAR
VERSION:2.0
PRODID:-//Lehigh Valley Charter High School for the Arts//NONSGML v1.0//EN
CALSCALE:GREGORIAN
METHOD:PUBLISH
X-WR-CALNAME:Lehigh Valley Charter High School for the Arts
X-ORIGINAL-URL:https://www.charterarts.org
X-WR-CALDESC:Events for Lehigh Valley Charter High School for the Arts
X-WR-TIMEZONE:America/New_York
BEGIN:VEVENT
DTSTART;VALUE=DATE-TIME:20190914T180000
DTEND;VALUE=DATE-TIME:20190914T210000
DTSTAMP:20260419T134343
CREATED:20190912T133212
LAST-MODIFIED:20190912T133702
UID:18282@https://www.charterarts.org
SUMMARY:Charter Arts Night at Bethlehem House Gallery
DESCRIPTION:View an amazing exhibit featuring the work of Charter Arts alumni- Jessica Bastidas and Arturo Cabrera-this Saturday\, September 14th from 6-9 PM at the Bethlehem House Gallery. This artwork is part of the gallery's Summer Show Exhibit. It is a must-see!! 10% of proceeds of art purchases will benefit Charter Arts. 
LOCATION:
URL:https://www.charterarts.org/event/charter-arts-night-at-bethlehem-house-gallery/
END:VEVENT
END:VCALENDAR