BEGIN:VCALENDAR
VERSION:2.0
PRODID:-//Lehigh Valley Charter High School for the Arts//NONSGML v1.0//EN
CALSCALE:GREGORIAN
METHOD:PUBLISH
X-WR-CALNAME:Lehigh Valley Charter High School for the Arts
X-ORIGINAL-URL:https://www.charterarts.org
X-WR-CALDESC:Events for Lehigh Valley Charter High School for the Arts
X-WR-TIMEZONE:America/New_York
BEGIN:VEVENT
DTSTART;VALUE=DATE-TIME:20140918T080000
DTEND;VALUE=DATE-TIME:20140918T083000
DTSTAMP:20260420T174517
CREATED:20140821T092010
LAST-MODIFIED:20140822T131839
UID:7883@https://www.charterarts.org
SUMMARY:Class Ring Assembly
DESCRIPTION:This brief assembly is for sophomores to learn about class rings.  It will take place during school.    Any upperclassmen who did not take advantage of ordering a class ring as a sophomore who would like to order one this year\, will be able to pick up an information packet in the main office on this date.
LOCATION:
URL:https://www.charterarts.org/event/class-ring-assembly/
END:VEVENT
END:VCALENDAR