BEGIN:VCALENDAR
VERSION:2.0
PRODID:-//Lehigh Valley Charter High School for the Arts//NONSGML v1.0//EN
CALSCALE:GREGORIAN
METHOD:PUBLISH
X-WR-CALNAME:Lehigh Valley Charter High School for the Arts
X-ORIGINAL-URL:https://www.charterarts.org
X-WR-CALDESC:Events for Lehigh Valley Charter High School for the Arts
X-WR-TIMEZONE:America/New_York
BEGIN:VEVENT
DTSTART;VALUE=DATE-TIME:20150207T160000
DTEND;VALUE=DATE-TIME:20150207T173000
DTSTAMP:20260422T172700
CREATED:20150204T111726
LAST-MODIFIED:20150204T111726
UID:9374@https://www.charterarts.org
SUMMARY:Classical Voice Showcase- Cancelled
DESCRIPTION:
LOCATION:Ice House
URL:https://www.charterarts.org/event/classical-voice-showcase-cancelled/
END:VEVENT
END:VCALENDAR