BEGIN:VCALENDAR
VERSION:2.0
PRODID:-//Lehigh Valley Charter High School for the Arts//NONSGML v1.0//EN
CALSCALE:GREGORIAN
METHOD:PUBLISH
X-WR-CALNAME:Lehigh Valley Charter High School for the Arts
X-ORIGINAL-URL:https://www.charterarts.org
X-WR-CALDESC:Events for Lehigh Valley Charter High School for the Arts
X-WR-TIMEZONE:America/New_York
BEGIN:VEVENT
DTSTART;VALUE=DATE-TIME:20150921T190000
DTEND;VALUE=DATE-TIME:20150921T203000
DTSTAMP:20260423T002822
CREATED:20150805T131404
LAST-MODIFIED:20150921T094451
UID:10159@https://www.charterarts.org
SUMMARY:College Night- Parents of Seniors
DESCRIPTION:
LOCATION:
URL:https://www.charterarts.org/event/college-night-parents-of-seniors/
END:VEVENT
END:VCALENDAR