BEGIN:VCALENDAR
VERSION:2.0
PRODID:-//Lehigh Valley Charter High School for the Arts//NONSGML v1.0//EN
CALSCALE:GREGORIAN
METHOD:PUBLISH
X-WR-CALNAME:Lehigh Valley Charter High School for the Arts
X-ORIGINAL-URL:https://www.charterarts.org
X-WR-CALDESC:Events for Lehigh Valley Charter High School for the Arts
X-WR-TIMEZONE:America/New_York
BEGIN:VEVENT
DTSTART;VALUE=DATE-TIME:20150718T090000
DTEND;VALUE=DATE-TIME:20150718T130000
DTSTAMP:20260422T101939
CREATED:20150616T110151
LAST-MODIFIED:20150616T110211
UID:9908@https://www.charterarts.org
SUMMARY:Comedy Improv- One-Day Workshop
DESCRIPTION:ABOUT THE PROGRAM   The Lehigh Valley Charter High School for the Arts Summer Academy is a program of arts enrichment workshops and day camps in art\, music\, dance and theatre.   A participant does not have to be a current student at Charter Arts to attend\, the workshops are open to the community.    There are workshops for middle school students and high school students\, ages 9-16.        Comedy Improvisation Workshop  Do you love “Who’s Line is it Anyway”\, or value the skills of comedy improv troupes like Second City in Chicago (where many SNL legends had their start)\, Groundlings in LA or ComedySportz in Philadelphia\, then don’t miss this exciting workshop. Comedy improvisation skills are not only imperative for auditions and roles that require comedic timing\, but these skills are also highly respected by casting directors\, agents and directors.  Open to teens entering 8th-12th grade  Beginner to Intermediate  One Day Workshop- Saturday\, July 18 REGISTRATION STILL OPEN  9:00am-1:00pm  $55  Instructor: Morris
LOCATION:
URL:https://www.charterarts.org/event/comedy-improv-one-day-workshop/
END:VEVENT
END:VCALENDAR