BEGIN:VCALENDAR
VERSION:2.0
PRODID:-//Lehigh Valley Charter High School for the Arts//NONSGML v1.0//EN
CALSCALE:GREGORIAN
METHOD:PUBLISH
X-WR-CALNAME:Lehigh Valley Charter High School for the Arts
X-ORIGINAL-URL:https://www.charterarts.org
X-WR-CALDESC:Events for Lehigh Valley Charter High School for the Arts
X-WR-TIMEZONE:America/New_York
BEGIN:VEVENT
DTSTART;VALUE=DATE-TIME:20180730T090000
DTEND;VALUE=DATE-TIME:20180803T120000
DTSTAMP:20260422T121255
CREATED:20180502T124613
LAST-MODIFIED:20180502T124613
UID:15846@https://www.charterarts.org
SUMMARY:Comedy Improvisation for Beginner
DESCRIPTION:July 30-August 3    9am-12pm daily    READ MORE
LOCATION:
URL:https://www.charterarts.org/event/comedy-improvisation-beginner/
END:VEVENT
END:VCALENDAR