BEGIN:VCALENDAR
VERSION:2.0
PRODID:-//Lehigh Valley Charter High School for the Arts//NONSGML v1.0//EN
CALSCALE:GREGORIAN
METHOD:PUBLISH
X-WR-CALNAME:Lehigh Valley Charter High School for the Arts
X-ORIGINAL-URL:https://www.charterarts.org
X-WR-CALDESC:Events for Lehigh Valley Charter High School for the Arts
X-WR-TIMEZONE:America/New_York
BEGIN:VEVENT
DTSTART;VALUE=DATE-TIME:20140909T183000
DTEND;VALUE=DATE-TIME:20140909T203000
DTSTAMP:20260420T113733
CREATED:20140822T120851
LAST-MODIFIED:20140829T133824
UID:7903@https://www.charterarts.org
SUMMARY:Dance Department Parent Meeting
DESCRIPTION:Tuesday\, September 9th is the date of the Dance Department's very informative\, mandatory Dance Parent Meeting\, 6:30-8:30 p.m.\, in the Charter Arts Black Box Theater. The purpose of this meeting is to open up a clear channel of parent/teacher communication.           Very important information will be dispersed and explained and any questions parents have will be helpful to this process.  The Dance Department faculty expects all of our parents and guardians to be supportive of their dancer(s)\, and the details we cover in this meeting will help you in this position.  We do not have other dance parent meetings during the year\, so consider this a time to get acquainted or reacquainted with your child’s teachers and other parents of the dance department.     As you enter the school for this meeting on September 9th\, please be sure to sign in at the front table before being seated in the theater.  At least one parent or guardian from each dancer’s family MUST be present.  Students are not required to attend as they will cover the information during school.  
LOCATION:
URL:https://www.charterarts.org/event/dance-department-parent-meeting/
END:VEVENT
END:VCALENDAR