BEGIN:VCALENDAR
VERSION:2.0
PRODID:-//Lehigh Valley Charter High School for the Arts//NONSGML v1.0//EN
CALSCALE:GREGORIAN
METHOD:PUBLISH
X-WR-CALNAME:Lehigh Valley Charter High School for the Arts
X-ORIGINAL-URL:https://www.charterarts.org
X-WR-CALDESC:Events for Lehigh Valley Charter High School for the Arts
X-WR-TIMEZONE:America/New_York
BEGIN:VEVENT
DTSTART;VALUE=DATE-TIME:20190503T190000
DTEND;VALUE=DATE-TIME:20190504T190000
DTSTAMP:20260419T132953
CREATED:20180716T145136
LAST-MODIFIED:20190426T133159
UID:16264@https://www.charterarts.org
SUMMARY:Dance Quilt Concert
DESCRIPTION:Dance Quilt: A concert of work by faculty &amp; guest choreographers.    Performances:    Friday\, May 3\, 2019 @ 7:00 p.m    Saturday\, May 4\, 2019 @ 2:00 and 7:00 p.m         Purchase Tickets    
LOCATION:
URL:https://www.charterarts.org/event/dance-quilt-concert/
END:VEVENT
END:VCALENDAR