BEGIN:VCALENDAR
VERSION:2.0
PRODID:-//Lehigh Valley Charter High School for the Arts//NONSGML v1.0//EN
CALSCALE:GREGORIAN
METHOD:PUBLISH
X-WR-CALNAME:Lehigh Valley Charter High School for the Arts
X-ORIGINAL-URL:https://www.charterarts.org
X-WR-CALDESC:Events for Lehigh Valley Charter High School for the Arts
X-WR-TIMEZONE:America/New_York
BEGIN:VEVENT
DTSTART;VALUE=DATE-TIME:20181116T190000
DTEND;VALUE=DATE-TIME:20181117T190000
DTSTAMP:20260422T115130
CREATED:20180716T144911
LAST-MODIFIED:20181107T114604
UID:16254@https://www.charterarts.org
SUMMARY:Dance Soup
DESCRIPTION:Dance Soup: A concert of independent student work.     Performances:    Friday\,     November 16\, 2018 @ 7:00 p.m    Saturday\, November 17\, 2018 @ 2:00 and 7:00 p.m    PURCHASE TICKETS
LOCATION:
URL:https://www.charterarts.org/event/dance-soup-5/
END:VEVENT
END:VCALENDAR