BEGIN:VCALENDAR
VERSION:2.0
PRODID:-//Lehigh Valley Charter High School for the Arts//NONSGML v1.0//EN
CALSCALE:GREGORIAN
METHOD:PUBLISH
X-WR-CALNAME:Lehigh Valley Charter High School for the Arts
X-ORIGINAL-URL:https://www.charterarts.org
X-WR-CALDESC:Events for Lehigh Valley Charter High School for the Arts
X-WR-TIMEZONE:America/New_York
BEGIN:VEVENT
DTSTART;VALUE=DATE-TIME:20170127T190000
DTEND;VALUE=DATE-TIME:20170128T190000
DTSTAMP:20260420T223028
CREATED:20161212T114130
LAST-MODIFIED:20161212T114312
UID:13283@https://www.charterarts.org
SUMMARY:Dance Soup Concert
DESCRIPTION:Evening Performances:  January 27 &amp; 28 at 7pm    Matinee Performance:  January 28 at 2pm
LOCATION:
URL:https://www.charterarts.org/event/dance-soup-concert/
END:VEVENT
END:VCALENDAR