BEGIN:VCALENDAR
VERSION:2.0
PRODID:-//Lehigh Valley Charter High School for the Arts//NONSGML v1.0//EN
CALSCALE:GREGORIAN
METHOD:PUBLISH
X-WR-CALNAME:Lehigh Valley Charter High School for the Arts
X-ORIGINAL-URL:https://www.charterarts.org
X-WR-CALDESC:Events for Lehigh Valley Charter High School for the Arts
X-WR-TIMEZONE:America/New_York
BEGIN:VEVENT
DTSTART;VALUE=DATE-TIME:20120918T150000
DTEND;VALUE=DATE-TIME:20120918T163000
DTSTAMP:20260424T141050
CREATED:20120908T114220
LAST-MODIFIED:20120908T114220
UID:3738@https://www.charterarts.org
SUMMARY:District Choir Audition Rehearsals
DESCRIPTION:
LOCATION:
URL:https://www.charterarts.org/event/district-choir-audition-rehearsals-2/
END:VEVENT
END:VCALENDAR