BEGIN:VCALENDAR
VERSION:2.0
PRODID:-//Lehigh Valley Charter High School for the Arts//NONSGML v1.0//EN
CALSCALE:GREGORIAN
METHOD:PUBLISH
X-WR-CALNAME:Lehigh Valley Charter High School for the Arts
X-ORIGINAL-URL:https://www.charterarts.org
X-WR-CALDESC:Events for Lehigh Valley Charter High School for the Arts
X-WR-TIMEZONE:America/New_York
BEGIN:VEVENT
DTSTART;VALUE=DATE:20130207
DTEND;VALUE=DATE:20130210
DTSTAMP:20260422T155954
CREATED:20120909T112916
LAST-MODIFIED:20120909T112916
UID:3895@https://www.charterarts.org
SUMMARY:District Chorus Festival
DESCRIPTION:
LOCATION:
URL:https://www.charterarts.org/event/district-chorus-festival/
END:VEVENT
END:VCALENDAR