BEGIN:VCALENDAR
VERSION:2.0
PRODID:-//Lehigh Valley Charter High School for the Arts//NONSGML v1.0//EN
CALSCALE:GREGORIAN
METHOD:PUBLISH
X-WR-CALNAME:Lehigh Valley Charter High School for the Arts
X-ORIGINAL-URL:https://www.charterarts.org
X-WR-CALDESC:Events for Lehigh Valley Charter High School for the Arts
X-WR-TIMEZONE:America/New_York
BEGIN:VEVENT
DTSTART;VALUE=DATE:20201223
DTEND;VALUE=DATE:20201224
DTSTAMP:20260422T104114
CREATED:20200819T131102
LAST-MODIFIED:20200819T131102
UID:20187@https://www.charterarts.org
SUMMARY:EARLY DISMISSAL- 11 AM
DESCRIPTION:
LOCATION:
URL:https://www.charterarts.org/event/early-dismissal-11-am-4/
END:VEVENT
END:VCALENDAR