BEGIN:VCALENDAR
VERSION:2.0
PRODID:-//Lehigh Valley Charter High School for the Arts//NONSGML v1.0//EN
CALSCALE:GREGORIAN
METHOD:PUBLISH
X-WR-CALNAME:Lehigh Valley Charter High School for the Arts
X-ORIGINAL-URL:https://www.charterarts.org
X-WR-CALDESC:Events for Lehigh Valley Charter High School for the Arts
X-WR-TIMEZONE:America/New_York
BEGIN:VEVENT
DTSTART;VALUE=DATE:20201106
DTEND;VALUE=DATE:20201107
DTSTAMP:20260420T115842
CREATED:20200819T130357
LAST-MODIFIED:20200819T130357
UID:20157@https://www.charterarts.org
SUMMARY:EARLY DISMISSAL- 11 AM for Students/ Teacher In-Service
DESCRIPTION:
LOCATION:
URL:https://www.charterarts.org/event/early-dismissal-11-am-for-students-teacher-in-service/
END:VEVENT
END:VCALENDAR