BEGIN:VCALENDAR
VERSION:2.0
PRODID:-//Lehigh Valley Charter High School for the Arts//NONSGML v1.0//EN
CALSCALE:GREGORIAN
METHOD:PUBLISH
X-WR-CALNAME:Lehigh Valley Charter High School for the Arts
X-ORIGINAL-URL:https://www.charterarts.org
X-WR-CALDESC:Events for Lehigh Valley Charter High School for the Arts
X-WR-TIMEZONE:America/New_York
BEGIN:VEVENT
DTSTART;VALUE=DATE:20151009
DTEND;VALUE=DATE:20151010
DTSTAMP:20260419T145026
CREATED:20150805T134313
LAST-MODIFIED:20151008T151617
UID:10181@https://www.charterarts.org
SUMMARY:EARLY DISMISSAL- 11AM
DESCRIPTION:Students- Early Dismissal 11AM    Teacher In-Service PM
LOCATION:
URL:https://www.charterarts.org/event/early-dismissal-11am-2/
END:VEVENT
END:VCALENDAR