BEGIN:VCALENDAR
VERSION:2.0
PRODID:-//Lehigh Valley Charter High School for the Arts//NONSGML v1.0//EN
CALSCALE:GREGORIAN
METHOD:PUBLISH
X-WR-CALNAME:Lehigh Valley Charter High School for the Arts
X-ORIGINAL-URL:https://www.charterarts.org
X-WR-CALDESC:Events for Lehigh Valley Charter High School for the Arts
X-WR-TIMEZONE:America/New_York
BEGIN:VEVENT
DTSTART;VALUE=DATE:20151125
DTEND;VALUE=DATE:20151126
DTSTAMP:20260419T121144
CREATED:20150831T132542
LAST-MODIFIED:20151116T113622
UID:10373@https://www.charterarts.org
SUMMARY:EARLY DISMISSAL- 11AM
DESCRIPTION:
LOCATION:
URL:https://www.charterarts.org/event/early-dismissal-11am-3/
END:VEVENT
END:VCALENDAR