BEGIN:VCALENDAR
VERSION:2.0
PRODID:-//Lehigh Valley Charter High School for the Arts//NONSGML v1.0//EN
CALSCALE:GREGORIAN
METHOD:PUBLISH
X-WR-CALNAME:Lehigh Valley Charter High School for the Arts
X-ORIGINAL-URL:https://www.charterarts.org
X-WR-CALDESC:Events for Lehigh Valley Charter High School for the Arts
X-WR-TIMEZONE:America/New_York
BEGIN:VEVENT
DTSTART;VALUE=DATE:20161007
DTEND;VALUE=DATE:20161008
DTSTAMP:20260422T154622
CREATED:20160616T144020
LAST-MODIFIED:20160616T144020
UID:12303@https://www.charterarts.org
SUMMARY:EARLY DISMISSAL- 11am
DESCRIPTION:
LOCATION:
URL:https://www.charterarts.org/event/early-dismissal-11am/
END:VEVENT
END:VCALENDAR