BEGIN:VCALENDAR
VERSION:2.0
PRODID:-//Lehigh Valley Charter High School for the Arts//NONSGML v1.0//EN
CALSCALE:GREGORIAN
METHOD:PUBLISH
X-WR-CALNAME:Lehigh Valley Charter High School for the Arts
X-ORIGINAL-URL:https://www.charterarts.org
X-WR-CALDESC:Events for Lehigh Valley Charter High School for the Arts
X-WR-TIMEZONE:America/New_York
BEGIN:VEVENT
DTSTART;VALUE=DATE:20181121
DTEND;VALUE=DATE:20181122
DTSTAMP:20260419T121332
CREATED:20181113T081837
LAST-MODIFIED:20181113T081837
UID:16998@https://www.charterarts.org
SUMMARY:Early Dismissal at 11 AM
DESCRIPTION:
LOCATION:
URL:https://www.charterarts.org/event/early-dismissal-at-11-am/
END:VEVENT
END:VCALENDAR