BEGIN:VCALENDAR
VERSION:2.0
PRODID:-//Lehigh Valley Charter High School for the Arts//NONSGML v1.0//EN
CALSCALE:GREGORIAN
METHOD:PUBLISH
X-WR-CALNAME:Lehigh Valley Charter High School for the Arts
X-ORIGINAL-URL:https://www.charterarts.org
X-WR-CALDESC:Events for Lehigh Valley Charter High School for the Arts
X-WR-TIMEZONE:America/New_York
BEGIN:VEVENT
DTSTART;VALUE=DATE:20131127
DTEND;VALUE=DATE:20131128
DTSTAMP:20260419T121230
CREATED:20130517T111717
LAST-MODIFIED:20130517T111717
UID:4816@https://www.charterarts.org
SUMMARY:Early Dismissal at 11:00
DESCRIPTION:
LOCATION:
URL:https://www.charterarts.org/event/early-dismissal-at-1100/
END:VEVENT
END:VCALENDAR