BEGIN:VCALENDAR
VERSION:2.0
PRODID:-//Lehigh Valley Charter High School for the Arts//NONSGML v1.0//EN
CALSCALE:GREGORIAN
METHOD:PUBLISH
X-WR-CALNAME:Lehigh Valley Charter High School for the Arts
X-ORIGINAL-URL:https://www.charterarts.org
X-WR-CALDESC:Events for Lehigh Valley Charter High School for the Arts
X-WR-TIMEZONE:America/New_York
BEGIN:VEVENT
DTSTART;VALUE=DATE-TIME:20180318T123000
DTEND;VALUE=DATE-TIME:20180318T143000
DTSTAMP:20260419T180854
CREATED:20180131T122553
LAST-MODIFIED:20180313T113629
UID:15504@https://www.charterarts.org
SUMMARY:East Central PA Scholastic Art & Writing Award Ceremony
DESCRIPTION:This event will take place at 1:00 PM in the Charter Arts Theatre.  Doors open at 12:30 PM. Please enter at the 3rd Street entrance.    The exhibit of gold and silver keys will be held at the Banana Factory in the Banko Gallery through the month of March.
LOCATION:
URL:https://www.charterarts.org/event/east-central-pa-scholastic-art-writing-award-ceremony/
END:VEVENT
END:VCALENDAR