BEGIN:VCALENDAR
VERSION:2.0
PRODID:-//Lehigh Valley Charter High School for the Arts//NONSGML v1.0//EN
CALSCALE:GREGORIAN
METHOD:PUBLISH
X-WR-CALNAME:Lehigh Valley Charter High School for the Arts
X-ORIGINAL-URL:https://www.charterarts.org
X-WR-CALDESC:Events for Lehigh Valley Charter High School for the Arts
X-WR-TIMEZONE:America/New_York
BEGIN:VEVENT
DTSTART;VALUE=DATE-TIME:20201121T090000
DTEND;VALUE=DATE-TIME:20201121T110000
DTSTAMP:20260420T123326
CREATED:20201103T133256
LAST-MODIFIED:20201103T133256
UID:20748@https://www.charterarts.org
SUMMARY:Ed Camp
DESCRIPTION:
LOCATION:
URL:https://www.charterarts.org/event/ed-camp/
END:VEVENT
END:VCALENDAR