BEGIN:VCALENDAR
VERSION:2.0
PRODID:-//Lehigh Valley Charter High School for the Arts//NONSGML v1.0//EN
CALSCALE:GREGORIAN
METHOD:PUBLISH
X-WR-CALNAME:Lehigh Valley Charter High School for the Arts
X-ORIGINAL-URL:https://www.charterarts.org
X-WR-CALDESC:Events for Lehigh Valley Charter High School for the Arts
X-WR-TIMEZONE:America/New_York
BEGIN:VEVENT
DTSTART;VALUE=DATE-TIME:20160208T190000
DTEND;VALUE=DATE-TIME:20160208T210000
DTSTAMP:20260420T003935
CREATED:20160104T120857
LAST-MODIFIED:20160104T120857
UID:11196@https://www.charterarts.org
SUMMARY:Faculty Recital
DESCRIPTION:    //     
LOCATION:
URL:https://www.charterarts.org/event/faculty-recital-2/
END:VEVENT
END:VCALENDAR