BEGIN:VCALENDAR
VERSION:2.0
PRODID:-//Lehigh Valley Charter High School for the Arts//NONSGML v1.0//EN
CALSCALE:GREGORIAN
METHOD:PUBLISH
X-WR-CALNAME:Lehigh Valley Charter High School for the Arts
X-ORIGINAL-URL:https://www.charterarts.org
X-WR-CALDESC:Events for Lehigh Valley Charter High School for the Arts
X-WR-TIMEZONE:America/New_York
BEGIN:VEVENT
DTSTART;VALUE=DATE-TIME:20131219T110000
DTEND;VALUE=DATE-TIME:20131219T114000
DTSTAMP:20260420T180923
CREATED:20131216T071346
LAST-MODIFIED:20131216T071346
UID:6396@https://www.charterarts.org
SUMMARY:FAFSA and Applying for Financial Aid
DESCRIPTION:Mini Student Seminar on the FAFSA and Applying for Financial Aid. Sponsored by the Guidance Department in Room 102
LOCATION:
URL:https://www.charterarts.org/event/fafsa-applying-financial-aid-3/
END:VEVENT
END:VCALENDAR